BEGIN:VCALENDAR
VERSION:2.0
PRODID:-//BC First Nations Forestry Council - ECPv6.15.20//NONSGML v1.0//EN
CALSCALE:GREGORIAN
METHOD:PUBLISH
X-WR-CALNAME:BC First Nations Forestry Council
X-ORIGINAL-URL:https://forestrycouncil.ca
X-WR-CALDESC:Events for BC First Nations Forestry Council
REFRESH-INTERVAL;VALUE=DURATION:PT1H
X-Robots-Tag:noindex
X-PUBLISHED-TTL:PT1H
BEGIN:VTIMEZONE
TZID:America/Vancouver
BEGIN:DAYLIGHT
TZOFFSETFROM:-0800
TZOFFSETTO:-0700
TZNAME:PDT
DTSTART:20250309T100000
END:DAYLIGHT
BEGIN:STANDARD
TZOFFSETFROM:-0700
TZOFFSETTO:-0800
TZNAME:PST
DTSTART:20251102T090000
END:STANDARD
BEGIN:DAYLIGHT
TZOFFSETFROM:-0800
TZOFFSETTO:-0700
TZNAME:PDT
DTSTART:20260308T100000
END:DAYLIGHT
BEGIN:STANDARD
TZOFFSETFROM:-0700
TZOFFSETTO:-0800
TZNAME:PST
DTSTART:20261101T090000
END:STANDARD
BEGIN:DAYLIGHT
TZOFFSETFROM:-0800
TZOFFSETTO:-0700
TZNAME:PDT
DTSTART:20270314T100000
END:DAYLIGHT
BEGIN:STANDARD
TZOFFSETFROM:-0700
TZOFFSETTO:-0800
TZNAME:PST
DTSTART:20271107T090000
END:STANDARD
END:VTIMEZONE
BEGIN:VEVENT
DTSTART;TZID=America/Vancouver:20260701T000000
DTEND;TZID=America/Vancouver:20260701T235959
DTSTAMP:20260422T151112
CREATED:20251106T193342Z
LAST-MODIFIED:20251106T193342Z
UID:4193-1782864000-1782950399@forestrycouncil.ca
SUMMARY:Canada Day
DESCRIPTION:
URL:https://forestrycouncil.ca/event/canada-day-2/
LOCATION:BC
CATEGORIES:Statutory Holidays and Commemorative Days
END:VEVENT
BEGIN:VEVENT
DTSTART;TZID=America/Vancouver:20260803T000000
DTEND;TZID=America/Vancouver:20260803T235959
DTSTAMP:20260422T151112
CREATED:20251106T193704Z
LAST-MODIFIED:20251106T193906Z
UID:4198-1785715200-1785801599@forestrycouncil.ca
SUMMARY:B.C. Day
DESCRIPTION:
URL:https://forestrycouncil.ca/event/b-c-day/
LOCATION:BC
CATEGORIES:Statutory Holidays and Commemorative Days
END:VEVENT
BEGIN:VEVENT
DTSTART;TZID=America/Vancouver:20260907T000000
DTEND;TZID=America/Vancouver:20260907T235959
DTSTAMP:20260422T151112
CREATED:20251106T193746Z
LAST-MODIFIED:20251106T193851Z
UID:4349-1788739200-1788825599@forestrycouncil.ca
SUMMARY:Labour Day
DESCRIPTION:
URL:https://forestrycouncil.ca/event/labour-day-2/
LOCATION:BC
CATEGORIES:Statutory Holidays and Commemorative Days
END:VEVENT
BEGIN:VEVENT
DTSTART;TZID=America/Vancouver:20260930T000000
DTEND;TZID=America/Vancouver:20260930T235959
DTSTAMP:20260422T151112
CREATED:20251106T193828Z
LAST-MODIFIED:20251106T193837Z
UID:4352-1790726400-1790812799@forestrycouncil.ca
SUMMARY:National Day for Truth and Reconciliation
DESCRIPTION:
URL:https://forestrycouncil.ca/event/national-day-for-truth-and-reconciliation-2/
LOCATION:BC
CATEGORIES:Statutory Holidays and Commemorative Days
END:VEVENT
BEGIN:VEVENT
DTSTART;TZID=America/Vancouver:20261012T000000
DTEND;TZID=America/Vancouver:20261012T235959
DTSTAMP:20260422T151112
CREATED:20251106T193938Z
LAST-MODIFIED:20251106T193939Z
UID:4355-1791763200-1791849599@forestrycouncil.ca
SUMMARY:Thanksgiving Day
DESCRIPTION:
URL:https://forestrycouncil.ca/event/thanksgiving-day/
LOCATION:BC
CATEGORIES:Statutory Holidays and Commemorative Days
END:VEVENT
BEGIN:VEVENT
DTSTART;TZID=America/Vancouver:20261111T000000
DTEND;TZID=America/Vancouver:20261111T235959
DTSTAMP:20260422T151112
CREATED:20251106T194029Z
LAST-MODIFIED:20251106T194029Z
UID:4357-1794355200-1794441599@forestrycouncil.ca
SUMMARY:Remembrance Day
DESCRIPTION:
URL:https://forestrycouncil.ca/event/remembrance-day-2/
LOCATION:BC
CATEGORIES:Statutory Holidays and Commemorative Days
END:VEVENT
BEGIN:VEVENT
DTSTART;TZID=America/Vancouver:20261225T000000
DTEND;TZID=America/Vancouver:20261225T235959
DTSTAMP:20260422T151112
CREATED:20251106T194113Z
LAST-MODIFIED:20251106T194307Z
UID:4359-1798156800-1798243199@forestrycouncil.ca
SUMMARY:Christmas Day
DESCRIPTION:
URL:https://forestrycouncil.ca/event/christmas-day-2/
LOCATION:BC
CATEGORIES:Statutory Holidays and Commemorative Days
END:VEVENT
END:VCALENDAR