BEGIN:VCALENDAR
VERSION:2.0
PRODID:-//BC First Nations Forestry Council - ECPv6.15.20//NONSGML v1.0//EN
CALSCALE:GREGORIAN
METHOD:PUBLISH
X-WR-CALNAME:BC First Nations Forestry Council
X-ORIGINAL-URL:https://forestrycouncil.ca
X-WR-CALDESC:Events for BC First Nations Forestry Council
REFRESH-INTERVAL;VALUE=DURATION:PT1H
X-Robots-Tag:noindex
X-PUBLISHED-TTL:PT1H
BEGIN:VTIMEZONE
TZID:America/Vancouver
BEGIN:DAYLIGHT
TZOFFSETFROM:-0800
TZOFFSETTO:-0700
TZNAME:PDT
DTSTART:20240310T100000
END:DAYLIGHT
BEGIN:STANDARD
TZOFFSETFROM:-0700
TZOFFSETTO:-0800
TZNAME:PST
DTSTART:20241103T090000
END:STANDARD
BEGIN:DAYLIGHT
TZOFFSETFROM:-0800
TZOFFSETTO:-0700
TZNAME:PDT
DTSTART:20250309T100000
END:DAYLIGHT
BEGIN:STANDARD
TZOFFSETFROM:-0700
TZOFFSETTO:-0800
TZNAME:PST
DTSTART:20251102T090000
END:STANDARD
BEGIN:DAYLIGHT
TZOFFSETFROM:-0800
TZOFFSETTO:-0700
TZNAME:PDT
DTSTART:20260308T100000
END:DAYLIGHT
BEGIN:STANDARD
TZOFFSETFROM:-0700
TZOFFSETTO:-0800
TZNAME:PST
DTSTART:20261101T090000
END:STANDARD
END:VTIMEZONE
BEGIN:VEVENT
DTSTART;TZID=America/Vancouver:20251231T000000
DTEND;TZID=America/Vancouver:20251231T235959
DTSTAMP:20260422T152836
CREATED:20251106T182047Z
LAST-MODIFIED:20251106T182048Z
UID:4163-1767139200-1767225599@forestrycouncil.ca
SUMMARY:New Years Eve
DESCRIPTION:
URL:https://forestrycouncil.ca/event/new-years-eve/
LOCATION:British Columbia
CATEGORIES:Statutory Holidays and Commemorative Days
END:VEVENT
BEGIN:VEVENT
DTSTART;TZID=America/Vancouver:20251226T000000
DTEND;TZID=America/Vancouver:20251226T235959
DTSTAMP:20260422T152836
CREATED:20251106T181952Z
LAST-MODIFIED:20251106T182024Z
UID:4161-1766707200-1766793599@forestrycouncil.ca
SUMMARY:Boxing Day
DESCRIPTION:
URL:https://forestrycouncil.ca/event/boxing-day/
LOCATION:British Columbia
CATEGORIES:Statutory Holidays and Commemorative Days
END:VEVENT
BEGIN:VEVENT
DTSTART;TZID=America/Vancouver:20251225T000000
DTEND;TZID=America/Vancouver:20251225T235959
DTSTAMP:20260422T152836
CREATED:20251106T181753Z
LAST-MODIFIED:20251106T181754Z
UID:4158-1766620800-1766707199@forestrycouncil.ca
SUMMARY:Christmas Day
DESCRIPTION:
URL:https://forestrycouncil.ca/event/christmas-day/
LOCATION:British Columbia
CATEGORIES:Statutory Holidays and Commemorative Days
END:VEVENT
BEGIN:VEVENT
DTSTART;TZID=America/Vancouver:20251202T080000
DTEND;TZID=America/Vancouver:20251204T170000
DTSTAMP:20260422T152836
CREATED:20251106T180310Z
LAST-MODIFIED:20251106T183132Z
UID:4278-1764662400-1764867600@forestrycouncil.ca
SUMMARY:Assembly of First Nations: Special Chiefs Assembly
DESCRIPTION:The Assembly of First Nations (AFN) Special Chiefs Assembly (SCA) will be held on December 2-4\, 2025 at the Rogers Centre in Ottawa which is located on Algonquin Territory\, the unceded unsurrendered Anishinabe territory of the Algonquin Anishinabe peoples. \n\n\n\n\n\n\n\n\n\nRead More & Register
URL:https://forestrycouncil.ca/event/assembly-of-first-nations-special-chiefs-assembly/
LOCATION:Rogers Centre Ottawa\, 55 Colonel By Drive\, Ottawa\, Canada
CATEGORIES:External Events
ATTACH;FMTTYPE=application/pdf:https://forestrycouncil.ca/wp-content/uploads/2025/11/25-08-11-SCA25_Save-the-Date_ENG.pdf
END:VEVENT
BEGIN:VEVENT
DTSTART;TZID=America/Vancouver:20251119T080000
DTEND;TZID=America/Vancouver:20251120T170000
DTSTAMP:20260422T152836
CREATED:20251106T175743Z
LAST-MODIFIED:20251106T183152Z
UID:4156-1763539200-1763658000@forestrycouncil.ca
SUMMARY:First Nations Summit Meeting
DESCRIPTION:REad More
URL:https://forestrycouncil.ca/event/first-nations-summit-meeting/
LOCATION:British Columbia
CATEGORIES:External Events
END:VEVENT
BEGIN:VEVENT
DTSTART;TZID=America/Vancouver:20251113T100000
DTEND;TZID=America/Vancouver:20251113T120000
DTSTAMP:20260422T152836
CREATED:20251106T174849Z
LAST-MODIFIED:20251106T174915Z
UID:4153-1763028000-1763035200@forestrycouncil.ca
SUMMARY:Cariboo Wood Innovation Hub Speaker Series
DESCRIPTION:The Cariboo Wood Innovation Training Hub is hosting a Speaker Series with Dr. Harry Nelson of the University of British Columbia’s Faculty of Forestry.Dr. Nelson will be discussing the impacts of tariffs on the softwood lumber industry and how to create new opportunities in the value-added sector.The event will be hosted on Friday\, May 23\, from 10 am until noon in City Hall Council Chambers\, is free to attend and open to the public.
URL:https://forestrycouncil.ca/event/cariboo-wood-innovation-hub-speaker-series/
LOCATION:British Columbia
CATEGORIES:External Events
END:VEVENT
BEGIN:VEVENT
DTSTART;TZID=America/Vancouver:20251111T000000
DTEND;TZID=America/Vancouver:20251111T235959
DTSTAMP:20260422T152836
CREATED:20251106T174428Z
LAST-MODIFIED:20251106T174428Z
UID:4133-1762819200-1762905599@forestrycouncil.ca
SUMMARY:Remembrance Day
DESCRIPTION:Remembrance Day in Canada is a day of national commemoration on November 11th to honor those who died in military service and to remember those who have served.
URL:https://forestrycouncil.ca/event/remembrance-day/
LOCATION:British Columbia
CATEGORIES:Statutory Holidays and Commemorative Days
END:VEVENT
BEGIN:VEVENT
DTSTART;TZID=America/Vancouver:20251108T080000
DTEND;TZID=America/Vancouver:20251113T170000
DTSTAMP:20260422T152836
CREATED:20251103T214235Z
LAST-MODIFIED:20251103T214259Z
UID:4130-1762588800-1763053200@forestrycouncil.ca
SUMMARY:Japan Trade Mission
DESCRIPTION:
URL:https://forestrycouncil.ca/event/japan-trade-mission/
LOCATION:British Columbia
CATEGORIES:External Events
END:VEVENT
BEGIN:VEVENT
DTSTART;TZID=America/Vancouver:20251108T000000
DTEND;TZID=America/Vancouver:20251108T235959
DTSTAMP:20260422T152836
CREATED:20251106T173023Z
LAST-MODIFIED:20251106T180619Z
UID:4151-1762560000-1762646399@forestrycouncil.ca
SUMMARY:National Indigenous Veterans Day
DESCRIPTION:National Indigenous Veterans Day is a memorial day observed in Canada to honour the service and sacrifices of First Nations\, Métis\, and Inuit veterans\, particularly in the First and Second World Wars and the Korean War. The day was first commemorated in 1994.
URL:https://forestrycouncil.ca/event/national-indigenous-veterans-day/
LOCATION:British Columbia
CATEGORIES:Statutory Holidays and Commemorative Days
ATTACH;FMTTYPE=image/jpeg:https://forestrycouncil.ca/wp-content/uploads/2025/11/52486143942_15d2910938_b.jpg
END:VEVENT
BEGIN:VEVENT
DTSTART;TZID=America/Vancouver:20251103T080000
DTEND;TZID=America/Vancouver:20251105T170000
DTSTAMP:20260422T152836
CREATED:20251103T210458Z
LAST-MODIFIED:20251103T222029Z
UID:3194-1762156800-1762362000@forestrycouncil.ca
SUMMARY:First Nations Leaders’ Gathering
DESCRIPTION:
URL:https://forestrycouncil.ca/event/first-nations-leadership-gathering/
LOCATION:Vancouver Convention Centre\, 1055 Canada Place\, Vancouver\, British Columbia\, Canada
CATEGORIES:External Events
END:VEVENT
BEGIN:VEVENT
DTSTART;TZID=America/Vancouver:20251017T080000
DTEND;TZID=America/Vancouver:20251017T170000
DTSTAMP:20260422T152836
CREATED:20250820T172043Z
LAST-MODIFIED:20251003T182158Z
UID:3108-1760688000-1760720400@forestrycouncil.ca
SUMMARY:Coastal Currents - Forestry Fibre Flow Forum
DESCRIPTION:REgister Here\n\n\n\n\n\nThe Forestry Fibre Flow Forum was created through the Value-added Accelerators initiative\, launched in 2023. This initiative brings together the BC First Nations Forestry Council\, BC Value-added Wood Coalition\, BC Council of Forest Industries (COFI)\, and the Ministry of Forests\, including BC Timber Sales. \n\n\n\nThe Forum focuses on advancing value-added manufacturing on British Columbia’s Coast. Registration will open at the end of August 2025.
URL:https://forestrycouncil.ca/event/coastal-currents-forestry-fibre-flow-forum/
LOCATION:River Rock Casino Resort\, 8811 River Rd\, Richmond\, V6X 3P8\, Canada
CATEGORIES:Forestry Council Events
ATTACH;FMTTYPE=image/png:https://forestrycouncil.ca/wp-content/uploads/2025/08/Fibre-Forum_Banner_Theme.png.png
END:VEVENT
BEGIN:VEVENT
DTSTART;TZID=America/Vancouver:20251015T080000
DTEND;TZID=America/Vancouver:20251016T170000
DTSTAMP:20260422T152836
CREATED:20250820T172907Z
LAST-MODIFIED:20250820T172908Z
UID:3119-1760515200-1760634000@forestrycouncil.ca
SUMMARY:BC First Nations Forestry Forum
DESCRIPTION:The Forestry Forum is an annual gathering exclusively for First Nations from across BC to engage directly with provincial leaders on tenure reform\, revenue sharing\, wildfire policy\, and Forest Landscape Planning. Share your priorities and network with other Nations to exchange knowledge\, share challenges\, and explore solutions. \n\n\n\nThrough collaboration\, the Forum is your space to strengthen your role in decision-making and ensure forestry reflects First Nations’ rights\, values\, and knowledge now and for future generations. \n\n\n\n\n\n\n\n\n\nFirst Nations Register Here
URL:https://forestrycouncil.ca/event/bc-first-nations-forestry-forum/
LOCATION:River Rock Casino Resort\, 8811 River Rd\, Richmond\, V6X 3P8\, Canada
CATEGORIES:Forestry Council Events
ATTACH;FMTTYPE=image/png:https://forestrycouncil.ca/wp-content/uploads/2025/08/Home-Banner.png
END:VEVENT
BEGIN:VEVENT
DTSTART;TZID=America/Vancouver:20251013T000000
DTEND;TZID=America/Vancouver:20251013T235959
DTSTAMP:20260422T152836
CREATED:20250807T231250Z
LAST-MODIFIED:20250807T231251Z
UID:3092-1760313600-1760399999@forestrycouncil.ca
SUMMARY:Thanksgiving
DESCRIPTION:Federal statutory holiday
URL:https://forestrycouncil.ca/event/thanksgiving/
LOCATION:British Columbia
CATEGORIES:Statutory Holidays and Commemorative Days
END:VEVENT
BEGIN:VEVENT
DTSTART;TZID=America/Vancouver:20251005T080000
DTEND;TZID=America/Vancouver:20251008T170000
DTSTAMP:20260422T152836
CREATED:20250807T225618Z
LAST-MODIFIED:20250807T230803Z
UID:3075-1759651200-1759942800@forestrycouncil.ca
SUMMARY:2025 CIF-IFC National Conference & 117th Annual General Meeting
DESCRIPTION:This multi-day Conference\, Finding Opportunity in Complexity\, will explore the interconnected dimensions of climate change\, forest fire management\, biodiversity conservation\, Indigenous forest stewardship\, socio-economic considerations\, and the evolving forest industry. \n\n\n\nThe Conference will also include many activities where you can experience beautiful Binesii-wiikwedong (Thunder Bay)\, on the shore of Anishinaabewi-gichigami (Lake Superior) and the surrounding area. \n\n\n\nForests are complex systems that support a wide range of interconnected biotic and abiotic elements\, including human settlements. Managing forests sustainably to meet the diversity of human values and interests under a rapidly changing climate and growing human population is a challenge.  \n\n\n\nThe boreal forests of the “Lakehead”\, the traditional territory of Fort William First Nation\, have provided a cultural and spiritual foundation for Indigenous Peoples for generations\, along with a diverse suite of ecosystem services. Over time the area’s forests have also become a source of economic prosperity\, making the region a hub of forest management\, scientific inquiry\, and policy development. This provides the ideal setting for exploring the relationships between forests and the communities\, economies\, and ecosystems they support.  Join us as we transform the challenges of complexity into opportunities by considering the history of forest management\, celebrating the contributions and diverse perspectives of our peers\, and looking toward resilient and healthy future forests. \n\n\n\n\n\n\n\n\n\nREgister Here
URL:https://forestrycouncil.ca/event/2025-cif-ifc-national-conference-117th-annual-general-meeting/
LOCATION:Thunder Bay\, ON\, Thunder Bay\, Ontario\, Canada
CATEGORIES:External Events
ATTACH;FMTTYPE=image/jpeg:https://forestrycouncil.ca/wp-content/uploads/2025/08/photo-by-Ryan-Wilkie-14-scaled-1.jpg
END:VEVENT
BEGIN:VEVENT
DTSTART;TZID=America/Vancouver:20250930T000000
DTEND;TZID=America/Vancouver:20250930T235959
DTSTAMP:20260422T152836
CREATED:20250807T231048Z
LAST-MODIFIED:20250807T231049Z
UID:3090-1759190400-1759276799@forestrycouncil.ca
SUMMARY:National Day for Truth and Reconciliation
DESCRIPTION:Federal statutory holiday
URL:https://forestrycouncil.ca/event/national-day-for-truth-and-reconciliation/
LOCATION:British Columbia
CATEGORIES:Statutory Holidays and Commemorative Days
END:VEVENT
BEGIN:VEVENT
DTSTART;TZID=America/Vancouver:20250901T000000
DTEND;TZID=America/Vancouver:20250901T235959
DTSTAMP:20260422T152836
CREATED:20250807T230524Z
LAST-MODIFIED:20250807T230617Z
UID:3084-1756684800-1756771199@forestrycouncil.ca
SUMMARY:Labour Day
DESCRIPTION:Federal statutory holiday
URL:https://forestrycouncil.ca/event/labour-day/
LOCATION:British Columbia
CATEGORIES:Statutory Holidays and Commemorative Days
END:VEVENT
BEGIN:VEVENT
DTSTART;TZID=America/Vancouver:20250804T000000
DTEND;TZID=America/Vancouver:20250804T235959
DTSTAMP:20260422T152836
CREATED:20250807T230314Z
LAST-MODIFIED:20250807T230644Z
UID:3082-1754265600-1754351999@forestrycouncil.ca
SUMMARY:BC Day
DESCRIPTION:Federal statutory holiday
URL:https://forestrycouncil.ca/event/bc-day/
LOCATION:British Columbia
CATEGORIES:Statutory Holidays and Commemorative Days
END:VEVENT
BEGIN:VEVENT
DTSTART;TZID=America/Vancouver:20250621T000000
DTEND;TZID=America/Vancouver:20250621T235959
DTSTAMP:20260422T152836
CREATED:20250416T221126Z
LAST-MODIFIED:20250416T221127Z
UID:2374-1750464000-1750550399@forestrycouncil.ca
SUMMARY:National Indigenous Peoples Day
DESCRIPTION:
URL:https://forestrycouncil.ca/event/national-indigenous-peoples-day/
LOCATION:British Columbia
CATEGORIES:Statutory Holidays and Commemorative Days
END:VEVENT
BEGIN:VEVENT
DTSTART;TZID=America/Vancouver:20250618T080000
DTEND;TZID=America/Vancouver:20250620T180000
DTSTAMP:20260422T152836
CREATED:20250416T221009Z
LAST-MODIFIED:20250523T195545Z
UID:2368-1750233600-1750442400@forestrycouncil.ca
SUMMARY:9th Indigenous Resource Opportunities Conference
DESCRIPTION:The objective is to establish enduring and sustainable advantages for Indigenous communities through resource development endeavors. By prioritizing these aims\, the conference seeks to advocate for inclusivity\, economic empowerment\, and the overall welfare of Indigenous Peoples within the framework of resource development initiatives.
URL:https://forestrycouncil.ca/event/9th-indigenous-resource-opportunities-conference/
LOCATION:Nanaimo\, BC\, Nanaimo\, BC\, Canada
CATEGORIES:External Events
ATTACH;FMTTYPE=image/jpeg:https://forestrycouncil.ca/wp-content/uploads/2025/04/indigenous_resources_opportunities_conference_logo.jpeg
END:VEVENT
BEGIN:VEVENT
DTSTART;TZID=America/Vancouver:20250601T000000
DTEND;TZID=America/Vancouver:20250630T235959
DTSTAMP:20260422T152836
CREATED:20250416T220426Z
LAST-MODIFIED:20250416T220521Z
UID:2365-1748736000-1751327999@forestrycouncil.ca
SUMMARY:National Indigenous History Month
DESCRIPTION:
URL:https://forestrycouncil.ca/event/national-indigenous-history-month/
LOCATION:British Columbia
CATEGORIES:Statutory Holidays and Commemorative Days
END:VEVENT
BEGIN:VEVENT
DTSTART;TZID=America/Vancouver:20250601T000000
DTEND;TZID=America/Vancouver:20250601T235959
DTSTAMP:20260422T152836
CREATED:20250416T220142Z
LAST-MODIFIED:20250416T220225Z
UID:2362-1748736000-1748822399@forestrycouncil.ca
SUMMARY:Canada Day
DESCRIPTION:
URL:https://forestrycouncil.ca/event/canada-day/
LOCATION:British Columbia
CATEGORIES:Statutory Holidays and Commemorative Days
END:VEVENT
BEGIN:VEVENT
DTSTART;TZID=America/Vancouver:20250520T090000
DTEND;TZID=America/Vancouver:20250523T180000
DTSTAMP:20260422T152836
CREATED:20250416T214824Z
LAST-MODIFIED:20250523T201007Z
UID:2349-1747731600-1748023200@forestrycouncil.ca
SUMMARY:SFI 2025 Annual Conference
DESCRIPTION:The importance of forests for the well-being of people and the planet is clear – and SFI has established itself as a recognized leader working to advance sustainability through forest-focused collaboration. We are looking to the future and the change we want to make. \n\n\n\nBy collaborating with our networks of SFI-certified organizations\, community and conservation leaders\, Indigenous representatives\, government officials\, researchers and educators\, and so many more\, we are identifying and advancing nature and community grown solutions to conserve\, sustainably manage\, and restore ecosystems in ways that effectively address societal and environmental challenges to benefit both people and the planet. \n\n\n\n\n\n\n\nREGISTER NOW
URL:https://forestrycouncil.ca/event/sfi-2024-annual-conference/
LOCATION:The Depot Renaissance\, 225 3rd Ave S\, Minneapolis\, Minnesota\, 55401\, United States
CATEGORIES:External Events
ATTACH;FMTTYPE=image/jpeg:https://forestrycouncil.ca/wp-content/uploads/2025/04/images.jpeg
END:VEVENT
BEGIN:VEVENT
DTSTART;TZID=America/Vancouver:20250519T000000
DTEND;TZID=America/Vancouver:20250519T235959
DTSTAMP:20260422T152836
CREATED:20250416T214300Z
LAST-MODIFIED:20250416T214408Z
UID:2346-1747612800-1747699199@forestrycouncil.ca
SUMMARY:Victoria Day
DESCRIPTION:
URL:https://forestrycouncil.ca/event/victoria-day/
LOCATION:British Columbia
CATEGORIES:Statutory Holidays and Commemorative Days
END:VEVENT
BEGIN:VEVENT
DTSTART;TZID=America/Vancouver:20250501T080000
DTEND;TZID=America/Vancouver:20250503T180000
DTSTAMP:20260422T152836
CREATED:20250409T021805Z
LAST-MODIFIED:20250523T201035Z
UID:1939-1746086400-1746295200@forestrycouncil.ca
SUMMARY:Interior Logging Association’s 67th AGM & Convention
DESCRIPTION:Event Details\n\n\n\nContinually evolving forest technology and eco-system management\, changing regulations\, policy initiatives and safety procedures\, expanding markets and products\, and a renaissance in jobs and new training opportunities are all reasons to come together to learn\, discover and network at the Interior Logging Association’s AGM & Convention. The event alternates venues each year to reach out to our association members and industry stakeholders throughout the southern Interior region. Don’t miss this opportunity to meet face to face\, discuss current issues\, learn about industry trends\, see what’s new in machinery\, kick some iron and explore new business ventures. We look forward to seeing you there. \n\n\n\nOr paste this link in your browser’s address bar: https://interiorlogging.org/annual-agm-convention/ \n\n\n\nREGISTER NOW
URL:https://forestrycouncil.ca/event/interior-logging-associations-67th-agm-convention/
LOCATION:British Columbia
CATEGORIES:External Events
ATTACH;FMTTYPE=image/png:https://forestrycouncil.ca/wp-content/uploads/2025/04/1200x1200fPNG.png
END:VEVENT
BEGIN:VEVENT
DTSTART;TZID=America/Vancouver:20250425T100000
DTEND;TZID=America/Vancouver:20250425T150000
DTSTAMP:20260422T152836
CREATED:20250409T022229Z
LAST-MODIFIED:20250523T201158Z
UID:1941-1745575200-1745593200@forestrycouncil.ca
SUMMARY:2025 Youth Conference
DESCRIPTION:Penticton\, BC\, Canada
URL:https://forestrycouncil.ca/event/2025-youth-conference/
LOCATION:Penticton Trade and Convention Center\, 273 Power St\, Penticton\, BC\, V2A 7K9\, Canada
CATEGORIES:Forestry Council Events
ATTACH;FMTTYPE=image/avif:https://forestrycouncil.ca/wp-content/uploads/2025/04/Youth-Conference.avif
END:VEVENT
BEGIN:VEVENT
DTSTART;TZID=America/Vancouver:20250423T090000
DTEND;TZID=America/Vancouver:20250425T170000
DTSTAMP:20260422T152836
CREATED:20250401T203939Z
LAST-MODIFIED:20250603T203909Z
UID:1700-1745398800-1745600400@forestrycouncil.ca
SUMMARY:2025 First Nations Forestry Conference
DESCRIPTION:The BC First Nations Forestry Conference brings together First Nations\, government\, and industry to strengthen partnerships\, celebrate achievements\, and advance sustainable forest management. Through collaboration and shared knowledge\, the conference emphasizes the vital role of First Nations in shaping a sustainable and inclusive future for forestry. \n\n\n\n\n\n\n\n\n\n\n\nREGISTER NOW
URL:https://forestrycouncil.ca/event/2025-first-nations-forestry-conference/
LOCATION:Penticton Trade and Convention Center\, 273 Power St\, Penticton\, V2A 7K9\, Canada
CATEGORIES:Forestry Council Events
ATTACH;FMTTYPE=image/avif:https://forestrycouncil.ca/wp-content/uploads/2025/04/Forestry-Conference-Grapic.avif
END:VEVENT
BEGIN:VEVENT
DTSTART;TZID=America/Vancouver:20250418T000000
DTEND;TZID=America/Vancouver:20250418T235959
DTSTAMP:20260422T152836
CREATED:20250408T154050Z
LAST-MODIFIED:20250715T222742Z
UID:1928-1744934400-1745020799@forestrycouncil.ca
SUMMARY:Good Friday
DESCRIPTION:
URL:https://forestrycouncil.ca/event/test-2/
LOCATION:British Columbia
CATEGORIES:Statutory Holidays and Commemorative Days
END:VEVENT
END:VCALENDAR