BEGIN:VCALENDAR
VERSION:2.0
PRODID:-//BC First Nations Forestry Council - ECPv6.15.20//NONSGML v1.0//EN
CALSCALE:GREGORIAN
METHOD:PUBLISH
X-WR-CALNAME:BC First Nations Forestry Council
X-ORIGINAL-URL:https://forestrycouncil.ca
X-WR-CALDESC:Events for BC First Nations Forestry Council
REFRESH-INTERVAL;VALUE=DURATION:PT1H
X-Robots-Tag:noindex
X-PUBLISHED-TTL:PT1H
BEGIN:VTIMEZONE
TZID:America/Vancouver
BEGIN:DAYLIGHT
TZOFFSETFROM:-0800
TZOFFSETTO:-0700
TZNAME:PDT
DTSTART:20250309T100000
END:DAYLIGHT
BEGIN:STANDARD
TZOFFSETFROM:-0700
TZOFFSETTO:-0800
TZNAME:PST
DTSTART:20251102T090000
END:STANDARD
BEGIN:DAYLIGHT
TZOFFSETFROM:-0800
TZOFFSETTO:-0700
TZNAME:PDT
DTSTART:20260308T100000
END:DAYLIGHT
BEGIN:STANDARD
TZOFFSETFROM:-0700
TZOFFSETTO:-0800
TZNAME:PST
DTSTART:20261101T090000
END:STANDARD
BEGIN:DAYLIGHT
TZOFFSETFROM:-0800
TZOFFSETTO:-0700
TZNAME:PDT
DTSTART:20270314T100000
END:DAYLIGHT
BEGIN:STANDARD
TZOFFSETFROM:-0700
TZOFFSETTO:-0800
TZNAME:PST
DTSTART:20271107T090000
END:STANDARD
END:VTIMEZONE
BEGIN:VEVENT
DTSTART;TZID=America/Vancouver:20260304T090000
DTEND;TZID=America/Vancouver:20260305T170000
DTSTAMP:20260422T080554
CREATED:20251106T184841Z
LAST-MODIFIED:20251217T223511Z
UID:4181-1772614800-1772730000@forestrycouncil.ca
SUMMARY:BCAFN 22nd Annual Special Chiefs Assembly
DESCRIPTION:Read More
URL:https://forestrycouncil.ca/event/bcafn-22nd-annual-special-chiefs-assembly/
LOCATION:BC
CATEGORIES:External Events
ATTACH;FMTTYPE=image/png:https://forestrycouncil.ca/wp-content/uploads/2025/11/Untitled-design-4.png
END:VEVENT
END:VCALENDAR